Package: scider Version: 1.4.0 Command: /home/biocbuild/bbs-3.20-bioc/R/bin/R CMD check --install=check:scider.install-out.txt --library=/home/biocbuild/bbs-3.20-bioc/R/site-library --timings scider_1.4.0.tar.gz StartedAt: 2025-04-01 01:57:52 -0400 (Tue, 01 Apr 2025) EndedAt: 2025-04-01 02:04:38 -0400 (Tue, 01 Apr 2025) EllapsedTime: 406.3 seconds RetCode: 0 Status: OK CheckDir: scider.Rcheck Warnings: 0