Package: scider Version: 1.4.0 Command: /Library/Frameworks/R.framework/Resources/bin/R CMD build --keep-empty-dirs --no-resave-data scider StartedAt: 2025-04-01 07:07:39 -0400 (Tue, 01 Apr 2025) EndedAt: 2025-04-01 07:09:04 -0400 (Tue, 01 Apr 2025) EllapsedTime: 84.4 seconds RetCode: 0 Status: OK PackageFile: scider_1.4.0.tar.gz PackageFileSize: 2.842 MiB