Package: scider Version: 1.4.0 Command: rm -rf scider.buildbin-libdir && mkdir scider.buildbin-libdir && /Users/biocbuild/BBS/utils/build-universal.sh scider_1.4.0.tar.gz /Library/Frameworks/R.framework/Resources/bin/R scider.buildbin-libdir StartedAt: 2025-04-02 16:12:23 -0400 (Wed, 02 Apr 2025) EndedAt: 2025-04-02 16:12:58 -0400 (Wed, 02 Apr 2025) EllapsedTime: 35.2 seconds RetCode: 0 Status: OK PackageFile: scider_1.4.0.tgz PackageFileSize: 2.965 MiB