Package: schex Version: 1.20.0 Command: chmod a+r schex -R && F:\biocbuild\bbs-3.20-bioc\R\bin\R.exe CMD build --keep-empty-dirs --no-resave-data schex StartedAt: 2025-03-31 21:43:45 -0400 (Mon, 31 Mar 2025) EndedAt: 2025-03-31 21:46:08 -0400 (Mon, 31 Mar 2025) EllapsedTime: 143.4 seconds RetCode: 0 Status: OK PackageFile: schex_1.20.0.tar.gz PackageFileSize: 2.892 MiB