Package: scds Version: 1.22.0 Command: /home/biocbuild/R/R/bin/R CMD INSTALL scds StartedAt: 2025-03-31 20:24:26 -0000 (Mon, 31 Mar 2025) EndedAt: 2025-03-31 20:24:56 -0000 (Mon, 31 Mar 2025) EllapsedTime: 30.1 seconds RetCode: 0 Status: OK