Package: scds Version: 1.22.0 Command: /home/biocbuild/R/R/bin/R CMD check --install=check:scds.install-out.txt --library=/home/biocbuild/R/R/site-library --no-vignettes --timings scds_1.22.0.tar.gz StartedAt: 2025-04-01 10:25:03 -0000 (Tue, 01 Apr 2025) EndedAt: 2025-04-01 10:28:20 -0000 (Tue, 01 Apr 2025) EllapsedTime: 197.2 seconds RetCode: 0 Status: OK CheckDir: scds.Rcheck Warnings: 0