Package: scds Version: 1.22.0 Command: /home/biocbuild/bbs-3.20-bioc/R/bin/R CMD INSTALL scds StartedAt: 2025-03-31 15:19:21 -0400 (Mon, 31 Mar 2025) EndedAt: 2025-03-31 15:19:42 -0400 (Mon, 31 Mar 2025) EllapsedTime: 21.6 seconds RetCode: 0 Status: OK