Package: scds Version: 1.22.0 Command: /Library/Frameworks/R.framework/Resources/bin/R CMD INSTALL scds StartedAt: 2025-03-31 15:21:53 -0400 (Mon, 31 Mar 2025) EndedAt: 2025-03-31 15:22:49 -0400 (Mon, 31 Mar 2025) EllapsedTime: 56.0 seconds RetCode: 0 Status: OK