Package: scde Version: 2.34.0 Command: /home/biocbuild/R/R/bin/R CMD INSTALL scde StartedAt: 2025-03-31 20:58:41 -0000 (Mon, 31 Mar 2025) EndedAt: 2025-03-31 20:59:58 -0000 (Mon, 31 Mar 2025) EllapsedTime: 76.9 seconds RetCode: 0 Status: OK