Package: scde Version: 2.34.0 Command: F:\biocbuild\bbs-3.20-bioc\R\bin\R.exe CMD check --no-multiarch --install=check:scde.install-out.txt --library=F:\biocbuild\bbs-3.20-bioc\R\library --no-vignettes --timings scde_2.34.0.tar.gz StartedAt: 2025-04-01 05:38:43 -0400 (Tue, 01 Apr 2025) EndedAt: 2025-04-01 05:41:47 -0400 (Tue, 01 Apr 2025) EllapsedTime: 184.1 seconds RetCode: 0 Status: WARNINGS CheckDir: scde.Rcheck Warnings: 2