Package: sccomp Version: 1.10.0 Command: /Library/Frameworks/R.framework/Resources/bin/R CMD INSTALL sccomp StartedAt: 2025-03-31 15:45:07 -0400 (Mon, 31 Mar 2025) EndedAt: 2025-03-31 15:46:11 -0400 (Mon, 31 Mar 2025) EllapsedTime: 64.8 seconds RetCode: 0 Status: OK