Package: scanMiRApp Version: 1.12.0 Command: /home/biocbuild/R/R/bin/R CMD INSTALL scanMiRApp StartedAt: 2025-03-31 20:46:00 -0000 (Mon, 31 Mar 2025) EndedAt: 2025-03-31 20:46:57 -0000 (Mon, 31 Mar 2025) EllapsedTime: 57.7 seconds RetCode: 0 Status: OK