Package: scanMiRApp Version: 1.12.0 Command: /home/biocbuild/R/R/bin/R CMD build --keep-empty-dirs --no-resave-data scanMiRApp StartedAt: 2025-04-01 02:20:57 -0000 (Tue, 01 Apr 2025) EndedAt: 2025-04-01 02:22:33 -0000 (Tue, 01 Apr 2025) EllapsedTime: 96.1 seconds RetCode: 0 Status: OK PackageFile: scanMiRApp_1.12.0.tar.gz PackageFileSize: 930.6 KiB