Package: scanMiRApp Version: 1.12.0 Command: /Library/Frameworks/R.framework/Resources/bin/R CMD check --install=check:scanMiRApp.install-out.txt --library=/Library/Frameworks/R.framework/Resources/library --no-vignettes --timings scanMiRApp_1.12.0.tar.gz StartedAt: 2025-04-01 08:34:03 -0400 (Tue, 01 Apr 2025) EndedAt: 2025-04-01 08:44:12 -0400 (Tue, 01 Apr 2025) EllapsedTime: 608.9 seconds RetCode: 0 Status: OK CheckDir: scanMiRApp.Rcheck Warnings: 0