Package: scanMiR Version: 1.12.0 Command: /home/biocbuild/R/R/bin/R CMD INSTALL scanMiR StartedAt: 2025-03-31 20:27:21 -0000 (Mon, 31 Mar 2025) EndedAt: 2025-03-31 20:27:41 -0000 (Mon, 31 Mar 2025) EllapsedTime: 19.9 seconds RetCode: 0 Status: OK