Package: scanMiR Version: 1.12.0 Command: /Library/Frameworks/R.framework/Resources/bin/R CMD check --install=check:scanMiR.install-out.txt --library=/Library/Frameworks/R.framework/Resources/library --no-vignettes --timings scanMiR_1.12.0.tar.gz StartedAt: 2025-04-02 07:25:41 -0400 (Wed, 02 Apr 2025) EndedAt: 2025-04-02 07:28:02 -0400 (Wed, 02 Apr 2025) EllapsedTime: 141.7 seconds RetCode: 0 Status: OK CheckDir: scanMiR.Rcheck Warnings: 0