Package: scTensor Version: 2.16.0 Command: F:\biocbuild\bbs-3.20-bioc\R\bin\R.exe CMD check --no-multiarch --install=check:scTensor.install-out.txt --library=F:\biocbuild\bbs-3.20-bioc\R\library --no-vignettes --timings scTensor_2.16.0.tar.gz StartedAt: 2025-04-01 05:49:58 -0400 (Tue, 01 Apr 2025) EndedAt: 2025-04-01 05:56:23 -0400 (Tue, 01 Apr 2025) EllapsedTime: 384.6 seconds RetCode: 0 Status: WARNINGS CheckDir: scTensor.Rcheck Warnings: 1