Package: scTensor Version: 2.16.0 Command: rm -rf scTensor.buildbin-libdir && mkdir scTensor.buildbin-libdir && F:\biocbuild\bbs-3.20-bioc\R\bin\R.exe CMD INSTALL --build --library=scTensor.buildbin-libdir scTensor_2.16.0.tar.gz StartedAt: 2025-04-01 09:11:26 -0400 (Tue, 01 Apr 2025) EndedAt: 2025-04-01 09:12:59 -0400 (Tue, 01 Apr 2025) EllapsedTime: 92.5 seconds RetCode: 0 Status: OK PackageFile: scTensor_2.16.0.zip PackageFileSize: 5.662 MiB