Package: scTensor Version: 2.16.0 Command: /home/biocbuild/bbs-3.20-bioc/R/bin/R CMD check --install=check:scTensor.install-out.txt --library=/home/biocbuild/bbs-3.20-bioc/R/site-library --timings scTensor_2.16.0.tar.gz StartedAt: 2025-04-01 02:05:17 -0400 (Tue, 01 Apr 2025) EndedAt: 2025-04-01 02:12:21 -0400 (Tue, 01 Apr 2025) EllapsedTime: 424.4 seconds RetCode: 0 Status: WARNINGS CheckDir: scTensor.Rcheck Warnings: 1