Package: scTensor Version: 2.16.0 Command: /Library/Frameworks/R.framework/Resources/bin/R CMD INSTALL scTensor StartedAt: 2025-03-31 16:24:45 -0400 (Mon, 31 Mar 2025) EndedAt: 2025-03-31 16:26:44 -0400 (Mon, 31 Mar 2025) EllapsedTime: 119.8 seconds RetCode: 0 Status: OK