Package: scTensor Version: 2.16.0 Command: /Library/Frameworks/R.framework/Resources/bin/R CMD check --install=check:scTensor.install-out.txt --library=/Library/Frameworks/R.framework/Resources/library --no-vignettes --timings scTensor_2.16.0.tar.gz StartedAt: 2025-04-02 08:18:19 -0400 (Wed, 02 Apr 2025) EndedAt: 2025-04-02 08:25:18 -0400 (Wed, 02 Apr 2025) EllapsedTime: 419.0 seconds RetCode: 0 Status: WARNINGS CheckDir: scTensor.Rcheck Warnings: 1