Package: scTGIF Version: 1.20.0 Command: /home/biocbuild/R/R/bin/R CMD INSTALL scTGIF StartedAt: 2025-03-31 20:45:18 -0000 (Mon, 31 Mar 2025) EndedAt: 2025-03-31 20:45:19 -0000 (Mon, 31 Mar 2025) EllapsedTime: 1.5 seconds RetCode: 1 Status: ERROR