Package: scTGIF Version: 1.20.0 Command: rm -rf scTGIF.buildbin-libdir && mkdir scTGIF.buildbin-libdir && F:\biocbuild\bbs-3.20-bioc\R\bin\R.exe CMD INSTALL --build --library=scTGIF.buildbin-libdir scTGIF_1.20.0.tar.gz StartedAt: 2025-04-01 09:11:29 -0400 (Tue, 01 Apr 2025) EndedAt: 2025-04-01 09:12:15 -0400 (Tue, 01 Apr 2025) EllapsedTime: 46.1 seconds RetCode: 0 Status: OK PackageFile: scTGIF_1.20.0.zip PackageFileSize: 1.991 MiB