Package: scTGIF Version: 1.20.0 Command: /Library/Frameworks/R.framework/Resources/bin/R CMD check --install=check:scTGIF.install-out.txt --library=/Library/Frameworks/R.framework/Resources/library --no-vignettes --timings scTGIF_1.20.0.tar.gz StartedAt: 2025-04-02 08:18:36 -0400 (Wed, 02 Apr 2025) EndedAt: 2025-04-02 08:23:40 -0400 (Wed, 02 Apr 2025) EllapsedTime: 303.4 seconds RetCode: 0 Status: OK CheckDir: scTGIF.Rcheck Warnings: 0