Package: scShapes Version: 1.12.0 Command: /home/biocbuild/R/R/bin/R CMD INSTALL scShapes StartedAt: 2025-03-31 20:26:45 -0000 (Mon, 31 Mar 2025) EndedAt: 2025-03-31 20:26:54 -0000 (Mon, 31 Mar 2025) EllapsedTime: 8.9 seconds RetCode: 0 Status: OK