Package: scShapes Version: 1.12.0 Command: /home/biocbuild/R/R/bin/R CMD build --keep-empty-dirs --no-resave-data scShapes StartedAt: 2025-04-01 02:35:07 -0000 (Tue, 01 Apr 2025) EndedAt: 2025-04-01 02:36:47 -0000 (Tue, 01 Apr 2025) EllapsedTime: 100.1 seconds RetCode: 0 Status: OK PackageFile: scShapes_1.12.0.tar.gz PackageFileSize: 30.69 KiB