Package: scShapes Version: 1.12.0 Command: /home/biocbuild/bbs-3.20-bioc/R/bin/R CMD build --keep-empty-dirs --no-resave-data --md5 scShapes StartedAt: 2025-03-31 19:03:26 -0400 (Mon, 31 Mar 2025) EndedAt: 2025-03-31 19:04:48 -0400 (Mon, 31 Mar 2025) EllapsedTime: 82.1 seconds RetCode: 0 Status: OK PackageFile: scShapes_1.12.0.tar.gz PackageFileSize: 31.3 KiB