Package: scShapes Version: 1.12.0 Command: /Library/Frameworks/R.framework/Resources/bin/R CMD build --keep-empty-dirs --no-resave-data scShapes StartedAt: 2025-04-01 07:27:51 -0400 (Tue, 01 Apr 2025) EndedAt: 2025-04-01 07:29:51 -0400 (Tue, 01 Apr 2025) EllapsedTime: 119.9 seconds RetCode: 0 Status: OK PackageFile: scShapes_1.12.0.tar.gz PackageFileSize: 29.8 KiB