Package: scRepertoire Version: 2.2.1 Command: /home/biocbuild/R/R/bin/R CMD INSTALL scRepertoire StartedAt: 2025-03-31 20:59:23 -0000 (Mon, 31 Mar 2025) EndedAt: 2025-03-31 21:00:47 -0000 (Mon, 31 Mar 2025) EllapsedTime: 84.4 seconds RetCode: 0 Status: OK