Package: scRepertoire Version: 2.2.1 Command: /home/biocbuild/R/R/bin/R CMD check --install=check:scRepertoire.install-out.txt --library=/home/biocbuild/R/R/site-library --no-vignettes --timings scRepertoire_2.2.1.tar.gz StartedAt: 2025-04-01 10:33:42 -0000 (Tue, 01 Apr 2025) EndedAt: 2025-04-01 10:44:45 -0000 (Tue, 01 Apr 2025) EllapsedTime: 662.9 seconds RetCode: 0 Status: OK CheckDir: scRepertoire.Rcheck Warnings: 0