Package: scRepertoire Version: 2.2.1 Command: /home/biocbuild/R/R/bin/R CMD build --keep-empty-dirs --no-resave-data scRepertoire StartedAt: 2025-04-01 02:34:31 -0000 (Tue, 01 Apr 2025) EndedAt: 2025-04-01 02:40:25 -0000 (Tue, 01 Apr 2025) EllapsedTime: 354.3 seconds RetCode: 0 Status: OK PackageFile: scRepertoire_2.2.1.tar.gz PackageFileSize: 18.26 MiB