Package: scRecover Version: 1.22.0 Command: /home/biocbuild/R/R/bin/R CMD INSTALL scRecover StartedAt: 2025-03-31 21:01:31 -0000 (Mon, 31 Mar 2025) EndedAt: 2025-03-31 21:01:43 -0000 (Mon, 31 Mar 2025) EllapsedTime: 11.7 seconds RetCode: 0 Status: OK