Package: scRecover Version: 1.22.0 Command: F:\biocbuild\bbs-3.20-bioc\R\bin\R.exe CMD INSTALL scRecover StartedAt: 2025-03-31 16:51:10 -0400 (Mon, 31 Mar 2025) EndedAt: 2025-03-31 16:51:26 -0400 (Mon, 31 Mar 2025) EllapsedTime: 15.5 seconds RetCode: 0 Status: OK