Package: scRecover Version: 1.22.0 Command: /Library/Frameworks/R.framework/Resources/bin/R CMD INSTALL scRecover StartedAt: 2025-03-31 16:23:57 -0400 (Mon, 31 Mar 2025) EndedAt: 2025-03-31 16:24:17 -0400 (Mon, 31 Mar 2025) EllapsedTime: 19.9 seconds RetCode: 0 Status: OK