Package: scRecover Version: 1.22.0 Command: /Library/Frameworks/R.framework/Resources/bin/R CMD check --install=check:scRecover.install-out.txt --library=/Library/Frameworks/R.framework/Resources/library --no-vignettes --timings scRecover_1.22.0.tar.gz StartedAt: 2025-04-01 08:53:31 -0400 (Tue, 01 Apr 2025) EndedAt: 2025-04-01 08:57:28 -0400 (Tue, 01 Apr 2025) EllapsedTime: 237.8 seconds RetCode: 0 Status: OK CheckDir: scRecover.Rcheck Warnings: 0