Package: scRecover Version: 1.22.0 Command: /Library/Frameworks/R.framework/Resources/bin/R CMD build --keep-empty-dirs --no-resave-data scRecover StartedAt: 2025-03-31 21:51:21 -0400 (Mon, 31 Mar 2025) EndedAt: 2025-03-31 21:56:05 -0400 (Mon, 31 Mar 2025) EllapsedTime: 284.3 seconds RetCode: 0 Status: OK PackageFile: scRecover_1.22.0.tar.gz PackageFileSize: 1.713 MiB