Package: scReClassify Version: 1.12.0 Command: F:\biocbuild\bbs-3.20-bioc\R\bin\R.exe CMD check --no-multiarch --install=check:scReClassify.install-out.txt --library=F:\biocbuild\bbs-3.20-bioc\R\library --no-vignettes --timings scReClassify_1.12.0.tar.gz StartedAt: 2025-04-01 05:47:45 -0400 (Tue, 01 Apr 2025) EndedAt: 2025-04-01 05:51:03 -0400 (Tue, 01 Apr 2025) EllapsedTime: 198.3 seconds RetCode: 0 Status: OK CheckDir: scReClassify.Rcheck Warnings: 0