Package: scRNAseqApp Version: 1.6.1 Command: /home/biocbuild/R/R/bin/R CMD INSTALL scRNAseqApp StartedAt: 2025-03-31 20:53:54 -0000 (Mon, 31 Mar 2025) EndedAt: 2025-03-31 20:55:16 -0000 (Mon, 31 Mar 2025) EllapsedTime: 81.9 seconds RetCode: 0 Status: OK