Package: scRNAseqApp Version: 1.6.1 Command: /home/biocbuild/R/R/bin/R CMD build --keep-empty-dirs --no-resave-data scRNAseqApp StartedAt: 2025-04-01 02:34:36 -0000 (Tue, 01 Apr 2025) EndedAt: 2025-04-01 02:36:21 -0000 (Tue, 01 Apr 2025) EllapsedTime: 105.1 seconds RetCode: 0 Status: OK PackageFile: scRNAseqApp_1.6.1.tar.gz PackageFileSize: 2.255 MiB