Package: scRNAseqApp Version: 1.6.1 Command: /Library/Frameworks/R.framework/Resources/bin/R CMD check --install=check:scRNAseqApp.install-out.txt --library=/Library/Frameworks/R.framework/Resources/library --no-vignettes --timings scRNAseqApp_1.6.1.tar.gz StartedAt: 2025-04-02 08:11:26 -0400 (Wed, 02 Apr 2025) EndedAt: 2025-04-02 08:18:42 -0400 (Wed, 02 Apr 2025) EllapsedTime: 435.2 seconds RetCode: 0 Status: OK CheckDir: scRNAseqApp.Rcheck Warnings: 0