Package: scRNAseqApp Version: 1.6.1 Command: /Library/Frameworks/R.framework/Resources/bin/R CMD build --keep-empty-dirs --no-resave-data scRNAseqApp StartedAt: 2025-04-01 07:25:58 -0400 (Tue, 01 Apr 2025) EndedAt: 2025-04-01 07:27:41 -0400 (Tue, 01 Apr 2025) EllapsedTime: 102.8 seconds RetCode: 0 Status: OK PackageFile: scRNAseqApp_1.6.1.tar.gz PackageFileSize: 2.191 MiB