Package: scPCA Version: 1.20.0 Command: /home/biocbuild/R/R/bin/R CMD check --install=check:scPCA.install-out.txt --library=/home/biocbuild/R/R/site-library --no-vignettes --timings scPCA_1.20.0.tar.gz StartedAt: 2025-04-01 10:31:05 -0000 (Tue, 01 Apr 2025) EndedAt: 2025-04-01 10:34:50 -0000 (Tue, 01 Apr 2025) EllapsedTime: 225.2 seconds RetCode: 0 Status: OK CheckDir: scPCA.Rcheck Warnings: 0