Package: scPCA Version: 1.20.0 Command: /Library/Frameworks/R.framework/Resources/bin/R CMD build --keep-empty-dirs --no-resave-data scPCA StartedAt: 2025-03-31 21:50:38 -0400 (Mon, 31 Mar 2025) EndedAt: 2025-03-31 22:04:45 -0400 (Mon, 31 Mar 2025) EllapsedTime: 847.0 seconds RetCode: 0 Status: OK PackageFile: scPCA_1.20.0.tar.gz PackageFileSize: 2.047 MiB