Package: scMultiSim Version: 1.2.0 Command: F:\biocbuild\bbs-3.20-bioc\R\bin\R.exe CMD check --no-multiarch --install=check:scMultiSim.install-out.txt --library=F:\biocbuild\bbs-3.20-bioc\R\library --no-vignettes --timings scMultiSim_1.2.0.tar.gz StartedAt: 2025-04-01 05:44:26 -0400 (Tue, 01 Apr 2025) EndedAt: 2025-04-01 05:48:15 -0400 (Tue, 01 Apr 2025) EllapsedTime: 229.1 seconds RetCode: 0 Status: OK CheckDir: scMultiSim.Rcheck Warnings: 0