Package: scMultiSim Version: 1.2.0 Command: rm -rf scMultiSim.buildbin-libdir && mkdir scMultiSim.buildbin-libdir && F:\biocbuild\bbs-3.20-bioc\R\bin\R.exe CMD INSTALL --build --library=scMultiSim.buildbin-libdir scMultiSim_1.2.0.tar.gz StartedAt: 2025-04-01 09:10:18 -0400 (Tue, 01 Apr 2025) EndedAt: 2025-04-01 09:11:26 -0400 (Tue, 01 Apr 2025) EllapsedTime: 68.3 seconds RetCode: 0 Status: OK PackageFile: scMultiSim_1.2.0.zip PackageFileSize: 4.447 MiB