Package: scMitoMut Version: 1.2.0 Command: /Library/Frameworks/R.framework/Resources/bin/R CMD INSTALL scMitoMut StartedAt: 2025-03-31 15:12:26 -0400 (Mon, 31 Mar 2025) EndedAt: 2025-03-31 15:13:07 -0400 (Mon, 31 Mar 2025) EllapsedTime: 41.2 seconds RetCode: 0 Status: OK