Package: scMitoMut Version: 1.2.0 Command: /Library/Frameworks/R.framework/Resources/bin/R CMD build --keep-empty-dirs --no-resave-data scMitoMut StartedAt: 2025-03-31 21:47:48 -0400 (Mon, 31 Mar 2025) EndedAt: 2025-03-31 21:49:37 -0400 (Mon, 31 Mar 2025) EllapsedTime: 109.3 seconds RetCode: 0 Status: OK PackageFile: scMitoMut_1.2.0.tar.gz PackageFileSize: 1.271 MiB