Package: scMerge Version: 1.22.0 Command: /home/biocbuild/R/R/bin/R CMD check --install=check:scMerge.install-out.txt --library=/home/biocbuild/R/R/site-library --no-vignettes --timings scMerge_1.22.0.tar.gz StartedAt: 2025-04-01 10:28:20 -0000 (Tue, 01 Apr 2025) EndedAt: 2025-04-01 10:38:03 -0000 (Tue, 01 Apr 2025) EllapsedTime: 582.7 seconds RetCode: 0 Status: OK CheckDir: scMerge.Rcheck Warnings: 0