Package: scMerge Version: 1.22.0 Command: /Library/Frameworks/R.framework/Resources/bin/R CMD INSTALL scMerge StartedAt: 2025-03-31 17:52:21 -0400 (Mon, 31 Mar 2025) EndedAt: 2025-03-31 17:53:12 -0400 (Mon, 31 Mar 2025) EllapsedTime: 51.7 seconds RetCode: 0 Status: OK