Package: scMerge Version: 1.22.0 Command: /Library/Frameworks/R.framework/Resources/bin/R CMD build --keep-empty-dirs --no-resave-data scMerge StartedAt: 2025-04-01 07:09:31 -0400 (Tue, 01 Apr 2025) EndedAt: 2025-04-01 07:12:07 -0400 (Tue, 01 Apr 2025) EllapsedTime: 156.5 seconds RetCode: 0 Status: OK PackageFile: scMerge_1.22.0.tar.gz PackageFileSize: 3.441 MiB